BEGIN:VCALENDAR
VERSION:2.0
PRODID:-//reichsbahnsparte-buckau.de - ECPv6.15.20//NONSGML v1.0//EN
CALSCALE:GREGORIAN
METHOD:PUBLISH
X-WR-CALNAME:reichsbahnsparte-buckau.de
X-ORIGINAL-URL:https://reichsbahnsparte-buckau.de
X-WR-CALDESC:Veranstaltungen für reichsbahnsparte-buckau.de
REFRESH-INTERVAL;VALUE=DURATION:PT1H
X-Robots-Tag:noindex
X-PUBLISHED-TTL:PT1H
BEGIN:VTIMEZONE
TZID:UTC
BEGIN:STANDARD
TZOFFSETFROM:+0000
TZOFFSETTO:+0000
TZNAME:UTC
DTSTART:20250101T000000
END:STANDARD
END:VTIMEZONE
BEGIN:VEVENT
DTSTART;TZID=UTC:20261003T000000
DTEND;TZID=UTC:20261005T235959
DTSTAMP:20260422T160239
CREATED:20260301T113244Z
LAST-MODIFIED:20260301T113244Z
UID:484-1790985600-1791244799@reichsbahnsparte-buckau.de
SUMMARY:Grünschnitt Container
DESCRIPTION:
URL:https://reichsbahnsparte-buckau.de/event/gruenschnitt-container-24/
CATEGORIES:Container-Termine
END:VEVENT
BEGIN:VEVENT
DTSTART;TZID=UTC:20261010T000000
DTEND;TZID=UTC:20261010T235959
DTSTAMP:20260422T160239
CREATED:20260301T113355Z
LAST-MODIFIED:20260301T113355Z
UID:488-1791590400-1791676799@reichsbahnsparte-buckau.de
SUMMARY:Aufbaustunden
DESCRIPTION:
URL:https://reichsbahnsparte-buckau.de/event/aufbaustunden-9/
CATEGORIES:Arbeitseinsätze
END:VEVENT
BEGIN:VEVENT
DTSTART;TZID=UTC:20261010T000000
DTEND;TZID=UTC:20261012T235959
DTSTAMP:20260422T160239
CREATED:20260301T113321Z
LAST-MODIFIED:20260301T113321Z
UID:486-1791590400-1791849599@reichsbahnsparte-buckau.de
SUMMARY:Grünschnitt Container
DESCRIPTION:
URL:https://reichsbahnsparte-buckau.de/event/gruenschnitt-container-25/
CATEGORIES:Container-Termine
END:VEVENT
BEGIN:VEVENT
DTSTART;TZID=UTC:20261017T000000
DTEND;TZID=UTC:20261019T235959
DTSTAMP:20260422T160239
CREATED:20260301T113425Z
LAST-MODIFIED:20260301T113425Z
UID:490-1792195200-1792454399@reichsbahnsparte-buckau.de
SUMMARY:Grünschnitt Container
DESCRIPTION:
URL:https://reichsbahnsparte-buckau.de/event/gruenschnitt-container-26/
CATEGORIES:Container-Termine
END:VEVENT
BEGIN:VEVENT
DTSTART;TZID=UTC:20261024T000000
DTEND;TZID=UTC:20261026T235959
DTSTAMP:20260422T160239
CREATED:20260301T113510Z
LAST-MODIFIED:20260301T113510Z
UID:492-1792800000-1793059199@reichsbahnsparte-buckau.de
SUMMARY:Grünschnitt Container
DESCRIPTION:
URL:https://reichsbahnsparte-buckau.de/event/gruenschnitt-container-27/
CATEGORIES:Container-Termine
END:VEVENT
BEGIN:VEVENT
DTSTART;TZID=UTC:20261024T000000
DTEND;TZID=UTC:20261024T235959
DTSTAMP:20260422T160239
CREATED:20260301T113543Z
LAST-MODIFIED:20260301T113543Z
UID:496-1792800000-1792886399@reichsbahnsparte-buckau.de
SUMMARY:Wasser abstellen! + Ablesung ab 09:00 Uhr
DESCRIPTION:
URL:https://reichsbahnsparte-buckau.de/event/wasser-abstellen-ablesung-ab-0900-uhr/
CATEGORIES:Medien (Wasser An-/Abschaltung)
END:VEVENT
BEGIN:VEVENT
DTSTART;TZID=UTC:20261031T000000
DTEND;TZID=UTC:20261102T235959
DTSTAMP:20260422T160239
CREATED:20260301T113620Z
LAST-MODIFIED:20260301T113620Z
UID:498-1793404800-1793663999@reichsbahnsparte-buckau.de
SUMMARY:Grünschnitt Container
DESCRIPTION:
URL:https://reichsbahnsparte-buckau.de/event/gruenschnitt-container-28/
CATEGORIES:Container-Termine
END:VEVENT
END:VCALENDAR