BEGIN:VCALENDAR
VERSION:2.0
PRODID:-//reichsbahnsparte-buckau.de - ECPv6.15.20//NONSGML v1.0//EN
CALSCALE:GREGORIAN
METHOD:PUBLISH
X-WR-CALNAME:reichsbahnsparte-buckau.de
X-ORIGINAL-URL:https://reichsbahnsparte-buckau.de
X-WR-CALDESC:Veranstaltungen für reichsbahnsparte-buckau.de
REFRESH-INTERVAL;VALUE=DURATION:PT1H
X-Robots-Tag:noindex
X-PUBLISHED-TTL:PT1H
BEGIN:VTIMEZONE
TZID:UTC
BEGIN:STANDARD
TZOFFSETFROM:+0000
TZOFFSETTO:+0000
TZNAME:UTC
DTSTART:20250101T000000
END:STANDARD
END:VTIMEZONE
BEGIN:VEVENT
DTSTART;TZID=UTC:20260905T000000
DTEND;TZID=UTC:20260905T235959
DTSTAMP:20260422T143228
CREATED:20260301T112954Z
LAST-MODIFIED:20260301T112954Z
UID:476-1788566400-1788652799@reichsbahnsparte-buckau.de
SUMMARY:Aufbaustunden
DESCRIPTION:
URL:https://reichsbahnsparte-buckau.de/event/aufbaustunden-8/
CATEGORIES:Arbeitseinsätze
END:VEVENT
BEGIN:VEVENT
DTSTART;TZID=UTC:20260905T000000
DTEND;TZID=UTC:20260907T235959
DTSTAMP:20260422T143228
CREATED:20260301T112930Z
LAST-MODIFIED:20260301T112930Z
UID:474-1788566400-1788825599@reichsbahnsparte-buckau.de
SUMMARY:Grünschnitt Container
DESCRIPTION:
URL:https://reichsbahnsparte-buckau.de/event/gruenschnitt-container-20/
CATEGORIES:Container-Termine
END:VEVENT
BEGIN:VEVENT
DTSTART;TZID=UTC:20260912T000000
DTEND;TZID=UTC:20260912T235959
DTSTAMP:20260422T143228
CREATED:20260301T113026Z
LAST-MODIFIED:20260301T113026Z
UID:478-1789171200-1789257599@reichsbahnsparte-buckau.de
SUMMARY:Grünschnitt Container
DESCRIPTION:
URL:https://reichsbahnsparte-buckau.de/event/gruenschnitt-container-21/
CATEGORIES:Container-Termine
END:VEVENT
BEGIN:VEVENT
DTSTART;TZID=UTC:20260919T000000
DTEND;TZID=UTC:20260921T235959
DTSTAMP:20260422T143228
CREATED:20260301T113108Z
LAST-MODIFIED:20260301T113108Z
UID:480-1789776000-1790035199@reichsbahnsparte-buckau.de
SUMMARY:Grünschnitt Container
DESCRIPTION:
URL:https://reichsbahnsparte-buckau.de/event/gruenschnitt-container-22/
CATEGORIES:Container-Termine
END:VEVENT
BEGIN:VEVENT
DTSTART;TZID=UTC:20260926T000000
DTEND;TZID=UTC:20260928T235959
DTSTAMP:20260422T143228
CREATED:20260301T113141Z
LAST-MODIFIED:20260301T113141Z
UID:482-1790380800-1790639999@reichsbahnsparte-buckau.de
SUMMARY:Grünschnitt Container
DESCRIPTION:
URL:https://reichsbahnsparte-buckau.de/event/gruenschnitt-container-23/
CATEGORIES:Container-Termine
END:VEVENT
END:VCALENDAR