BEGIN:VCALENDAR
VERSION:2.0
PRODID:-//reichsbahnsparte-buckau.de - ECPv6.15.20//NONSGML v1.0//EN
CALSCALE:GREGORIAN
METHOD:PUBLISH
X-ORIGINAL-URL:https://reichsbahnsparte-buckau.de
X-WR-CALDESC:Veranstaltungen für reichsbahnsparte-buckau.de
REFRESH-INTERVAL;VALUE=DURATION:PT1H
X-Robots-Tag:noindex
X-PUBLISHED-TTL:PT1H
BEGIN:VTIMEZONE
TZID:UTC
BEGIN:STANDARD
TZOFFSETFROM:+0000
TZOFFSETTO:+0000
TZNAME:UTC
DTSTART:20240101T000000
END:STANDARD
END:VTIMEZONE
BEGIN:VEVENT
DTSTART;TZID=UTC:20251031T000000
DTEND;TZID=UTC:20251103T235959
DTSTAMP:20260420T151642
CREATED:20250227T094822Z
LAST-MODIFIED:20250227T094822Z
UID:293-1761868800-1762214399@reichsbahnsparte-buckau.de
SUMMARY:24.Grünschnitt Container
DESCRIPTION:Öffnungszeiten: \nSamstag: 09:00 Uhr – 12:00 Uhr und 15:00 Uhr – 16:30 Uhr \nSonntag: ab 09:00 Uhr
URL:https://reichsbahnsparte-buckau.de/event/24-gruenschnitt-container/
CATEGORIES:Container-Termine
END:VEVENT
BEGIN:VEVENT
DTSTART;TZID=UTC:20251101T090000
DTEND;TZID=UTC:20251101T120000
DTSTAMP:20260420T151643
CREATED:20250227T123231Z
LAST-MODIFIED:20250227T123231Z
UID:327-1761987600-1761998400@reichsbahnsparte-buckau.de
SUMMARY:16.Arbeitseinsatz
DESCRIPTION:Treffpunkt am Vereinsheim
URL:https://reichsbahnsparte-buckau.de/event/16-arbeitseinsatz/
CATEGORIES:Arbeitseinsätze
END:VEVENT
BEGIN:VEVENT
DTSTART;TZID=UTC:20251108T000000
DTEND;TZID=UTC:20251110T235959
DTSTAMP:20260420T151643
CREATED:20250227T094857Z
LAST-MODIFIED:20250227T094857Z
UID:295-1762560000-1762819199@reichsbahnsparte-buckau.de
SUMMARY:25.Grünschnitt Container
DESCRIPTION:Öffnungszeiten: \nSamstag: 09:00 Uhr – 12:00 Uhr und 15:00 Uhr – 16:30 Uhr \nSonntag: ab 09:00 Uhr
URL:https://reichsbahnsparte-buckau.de/event/25-gruenschnitt-container/
CATEGORIES:Container-Termine
END:VEVENT
END:VCALENDAR