BEGIN:VCALENDAR
VERSION:2.0
PRODID:-//reichsbahnsparte-buckau.de - ECPv6.15.20//NONSGML v1.0//EN
CALSCALE:GREGORIAN
METHOD:PUBLISH
X-ORIGINAL-URL:https://reichsbahnsparte-buckau.de
X-WR-CALDESC:Veranstaltungen für reichsbahnsparte-buckau.de
REFRESH-INTERVAL;VALUE=DURATION:PT1H
X-Robots-Tag:noindex
X-PUBLISHED-TTL:PT1H
BEGIN:VTIMEZONE
TZID:UTC
BEGIN:STANDARD
TZOFFSETFROM:+0000
TZOFFSETTO:+0000
TZNAME:UTC
DTSTART:20240101T000000
END:STANDARD
END:VTIMEZONE
BEGIN:VEVENT
DTSTART;TZID=UTC:20251004T000000
DTEND;TZID=UTC:20251006T235959
DTSTAMP:20260420T165420
CREATED:20250227T094553Z
LAST-MODIFIED:20250227T094553Z
UID:285-1759536000-1759795199@reichsbahnsparte-buckau.de
SUMMARY:20.Grünschnitt Container
DESCRIPTION:Öffnungszeiten: \nSamstag: 09:00 Uhr – 12:00 Uhr und 15:00 Uhr – 16:30 Uhr \nSonntag: ab 09:00 Uhr
URL:https://reichsbahnsparte-buckau.de/event/20-gruenschnitt-container/
CATEGORIES:Container-Termine
END:VEVENT
BEGIN:VEVENT
DTSTART;TZID=UTC:20251011T000000
DTEND;TZID=UTC:20251013T235959
DTSTAMP:20260420T165420
CREATED:20250227T094627Z
LAST-MODIFIED:20250227T094627Z
UID:287-1760140800-1760399999@reichsbahnsparte-buckau.de
SUMMARY:21.Grünschnitt Container
DESCRIPTION:Öffnungszeiten: \nSamstag: 09:00 Uhr – 12:00 Uhr und 15:00 Uhr – 16:30 Uhr \nSonntag: ab 09:00 Uhr
URL:https://reichsbahnsparte-buckau.de/event/21-gruenschnitt-container/
CATEGORIES:Container-Termine
END:VEVENT
BEGIN:VEVENT
DTSTART;TZID=UTC:20251011T090000
DTEND;TZID=UTC:20251011T120000
DTSTAMP:20260420T165420
CREATED:20250227T123127Z
LAST-MODIFIED:20250227T123127Z
UID:323-1760173200-1760184000@reichsbahnsparte-buckau.de
SUMMARY:14.Arbeitseinsatz
DESCRIPTION:Treffpunkt am Vereinsheim
URL:https://reichsbahnsparte-buckau.de/event/14-arbeitseinsatz/
CATEGORIES:Arbeitseinsätze
END:VEVENT
BEGIN:VEVENT
DTSTART;TZID=UTC:20251018T000000
DTEND;TZID=UTC:20251020T235959
DTSTAMP:20260420T165420
CREATED:20250227T094654Z
LAST-MODIFIED:20250227T094654Z
UID:289-1760745600-1761004799@reichsbahnsparte-buckau.de
SUMMARY:22.Grünschnitt Container
DESCRIPTION:Öffnungszeiten: \nSamstag: 09:00 Uhr – 12:00 Uhr und 15:00 Uhr – 16:30 Uhr \nSonntag: ab 09:00 Uhr
URL:https://reichsbahnsparte-buckau.de/event/22-gruenschnitt-container/
CATEGORIES:Container-Termine
END:VEVENT
BEGIN:VEVENT
DTSTART;TZID=UTC:20251018T090000
DTEND;TZID=UTC:20251018T120000
DTSTAMP:20260420T165420
CREATED:20250227T123203Z
LAST-MODIFIED:20250227T123203Z
UID:325-1760778000-1760788800@reichsbahnsparte-buckau.de
SUMMARY:15.Arbeitseinsatz
DESCRIPTION:Treffpunkt am Vereinsheim
URL:https://reichsbahnsparte-buckau.de/event/15-arbeitseinsatz/
CATEGORIES:Arbeitseinsätze
END:VEVENT
BEGIN:VEVENT
DTSTART;TZID=UTC:20251025T000000
DTEND;TZID=UTC:20251025T235959
DTSTAMP:20260420T165420
CREATED:20250227T123457Z
LAST-MODIFIED:20250227T123457Z
UID:335-1761350400-1761436799@reichsbahnsparte-buckau.de
SUMMARY:WASSER AUS! + ABLESUNG
DESCRIPTION:
URL:https://reichsbahnsparte-buckau.de/event/wasser-aus-ablesung/
CATEGORIES:Medien (Wasser An-/Abschaltung)
END:VEVENT
BEGIN:VEVENT
DTSTART;TZID=UTC:20251025T000000
DTEND;TZID=UTC:20251027T235959
DTSTAMP:20260420T165420
CREATED:20250227T094726Z
LAST-MODIFIED:20250227T094726Z
UID:291-1761350400-1761609599@reichsbahnsparte-buckau.de
SUMMARY:23.Grünschnitt Container
DESCRIPTION:Öffnungszeiten: \nSamstag: 09:00 Uhr – 12:00 Uhr und 15:00 Uhr – 16:30 Uhr \nSonntag: ab 09:00 Uhr
URL:https://reichsbahnsparte-buckau.de/event/23-gruenschnitt-container/
CATEGORIES:Container-Termine
END:VEVENT
BEGIN:VEVENT
DTSTART;TZID=UTC:20251031T000000
DTEND;TZID=UTC:20251103T235959
DTSTAMP:20260420T165420
CREATED:20250227T094822Z
LAST-MODIFIED:20250227T094822Z
UID:293-1761868800-1762214399@reichsbahnsparte-buckau.de
SUMMARY:24.Grünschnitt Container
DESCRIPTION:Öffnungszeiten: \nSamstag: 09:00 Uhr – 12:00 Uhr und 15:00 Uhr – 16:30 Uhr \nSonntag: ab 09:00 Uhr
URL:https://reichsbahnsparte-buckau.de/event/24-gruenschnitt-container/
CATEGORIES:Container-Termine
END:VEVENT
END:VCALENDAR