BEGIN:VCALENDAR
VERSION:2.0
PRODID:-//reichsbahnsparte-buckau.de - ECPv6.15.20//NONSGML v1.0//EN
CALSCALE:GREGORIAN
METHOD:PUBLISH
X-ORIGINAL-URL:https://reichsbahnsparte-buckau.de
X-WR-CALDESC:Veranstaltungen für reichsbahnsparte-buckau.de
REFRESH-INTERVAL;VALUE=DURATION:PT1H
X-Robots-Tag:noindex
X-PUBLISHED-TTL:PT1H
BEGIN:VTIMEZONE
TZID:UTC
BEGIN:STANDARD
TZOFFSETFROM:+0000
TZOFFSETTO:+0000
TZNAME:UTC
DTSTART:20240101T000000
END:STANDARD
END:VTIMEZONE
BEGIN:VEVENT
DTSTART;TZID=UTC:20250503T000000
DTEND;TZID=UTC:20250505T235959
DTSTAMP:20260421T005900
CREATED:20250227T093712Z
LAST-MODIFIED:20250227T093712Z
UID:255-1746230400-1746489599@reichsbahnsparte-buckau.de
SUMMARY:5.Grünschnitt Container
DESCRIPTION:Öffnungszeiten: \nSamstag: 09:00 Uhr – 12:00 Uhr und 15:00 Uhr – 16:30 Uhr \nSonntag: ab 09:00 Uhr
URL:https://reichsbahnsparte-buckau.de/event/5-gruenschnitt-container/
CATEGORIES:Container-Termine
END:VEVENT
BEGIN:VEVENT
DTSTART;TZID=UTC:20250510T000000
DTEND;TZID=UTC:20250512T235959
DTSTAMP:20260421T005900
CREATED:20250227T093748Z
LAST-MODIFIED:20250227T093748Z
UID:257-1746835200-1747094399@reichsbahnsparte-buckau.de
SUMMARY:6.Grünschnitt Container
DESCRIPTION:Öffnungszeiten: \nSamstag: 09:00 Uhr – 12:00 Uhr und 15:00 Uhr – 16:30 Uhr \nSonntag: ab 09:00 Uhr
URL:https://reichsbahnsparte-buckau.de/event/6-gruenschnitt-container/
CATEGORIES:Container-Termine
END:VEVENT
BEGIN:VEVENT
DTSTART;TZID=UTC:20250510T090000
DTEND;TZID=UTC:20250510T120000
DTSTAMP:20260421T005900
CREATED:20250227T122602Z
LAST-MODIFIED:20250227T122602Z
UID:301-1746867600-1746878400@reichsbahnsparte-buckau.de
SUMMARY:3.Arbeitseinsatz
DESCRIPTION:Treffpunkt am Vereinsheim
URL:https://reichsbahnsparte-buckau.de/event/3-arbeitseinsatz/
CATEGORIES:Arbeitseinsätze
END:VEVENT
BEGIN:VEVENT
DTSTART;TZID=UTC:20250517T000000
DTEND;TZID=UTC:20250517T235959
DTSTAMP:20260421T005900
CREATED:20250227T123356Z
LAST-MODIFIED:20250227T123356Z
UID:331-1747440000-1747526399@reichsbahnsparte-buckau.de
SUMMARY:Jahreshauptversammlung
DESCRIPTION:Ort: Vereinsheim
URL:https://reichsbahnsparte-buckau.de/event/jahreshauptversammlung/
CATEGORIES:Versammlungen
END:VEVENT
BEGIN:VEVENT
DTSTART;TZID=UTC:20250524T000000
DTEND;TZID=UTC:20250526T235959
DTSTAMP:20260421T005900
CREATED:20250227T093826Z
LAST-MODIFIED:20250227T093826Z
UID:259-1748044800-1748303999@reichsbahnsparte-buckau.de
SUMMARY:7.Grünschnitt Container
DESCRIPTION:Öffnungszeiten: \nSamstag: 09:00 Uhr – 12:00 Uhr und 15:00 Uhr – 16:30 Uhr \nSonntag: ab 09:00 Uhr
URL:https://reichsbahnsparte-buckau.de/event/7-gruenschnitt-container/
CATEGORIES:Container-Termine
END:VEVENT
BEGIN:VEVENT
DTSTART;TZID=UTC:20250524T090000
DTEND;TZID=UTC:20250524T120000
DTSTAMP:20260421T005900
CREATED:20250227T122632Z
LAST-MODIFIED:20250227T122632Z
UID:303-1748077200-1748088000@reichsbahnsparte-buckau.de
SUMMARY:4.Arbeitseinsatz
DESCRIPTION:Treffpunkt am Vereinsheim
URL:https://reichsbahnsparte-buckau.de/event/4-arbeitseinsatz/
CATEGORIES:Arbeitseinsätze
END:VEVENT
BEGIN:VEVENT
DTSTART;TZID=UTC:20250531T000000
DTEND;TZID=UTC:20250602T235959
DTSTAMP:20260421T005900
CREATED:20250227T093901Z
LAST-MODIFIED:20250227T093901Z
UID:261-1748649600-1748908799@reichsbahnsparte-buckau.de
SUMMARY:8.Grünschnitt Container
DESCRIPTION:Öffnungszeiten: \nSamstag: 09:00 Uhr – 12:00 Uhr und 15:00 Uhr – 16:30 Uhr \nSonntag: ab 09:00 Uhr
URL:https://reichsbahnsparte-buckau.de/event/8-gruenschnitt-container/
CATEGORIES:Container-Termine
END:VEVENT
END:VCALENDAR