BEGIN:VCALENDAR
VERSION:2.0
PRODID:-//reichsbahnsparte-buckau.de - ECPv6.15.20//NONSGML v1.0//EN
CALSCALE:GREGORIAN
METHOD:PUBLISH
X-WR-CALNAME:reichsbahnsparte-buckau.de
X-ORIGINAL-URL:https://reichsbahnsparte-buckau.de
X-WR-CALDESC:Veranstaltungen für reichsbahnsparte-buckau.de
REFRESH-INTERVAL;VALUE=DURATION:PT1H
X-Robots-Tag:noindex
X-PUBLISHED-TTL:PT1H
BEGIN:VTIMEZONE
TZID:UTC
BEGIN:STANDARD
TZOFFSETFROM:+0000
TZOFFSETTO:+0000
TZNAME:UTC
DTSTART:20240101T000000
END:STANDARD
END:VTIMEZONE
BEGIN:VEVENT
DTSTART;TZID=UTC:20250209T090000
DTEND;TZID=UTC:20250209T120000
DTSTAMP:20260421T064120
CREATED:20250204T163000Z
LAST-MODIFIED:20250206T055741Z
UID:110-1739091600-1739102400@reichsbahnsparte-buckau.de
SUMMARY:Test - hier findet Ihr in Zukunft sämtliche Termine (Grünschnitt-Container und Arbeitseinsätze)
DESCRIPTION:
URL:https://reichsbahnsparte-buckau.de/event/1-gruenschnitt-container-2025-testtermin/
END:VEVENT
END:VCALENDAR